BEGIN:VCALENDAR
VERSION:2.0
PRODID:-//Breton Brewing Co. - ECPv6.15.17.1//NONSGML v1.0//EN
CALSCALE:GREGORIAN
METHOD:PUBLISH
X-WR-CALNAME:Breton Brewing Co.
X-ORIGINAL-URL:https://bretonbrewing.ca
X-WR-CALDESC:Events for Breton Brewing Co.
REFRESH-INTERVAL;VALUE=DURATION:PT1H
X-Robots-Tag:noindex
X-PUBLISHED-TTL:PT1H
BEGIN:VTIMEZONE
TZID:America/Halifax
BEGIN:DAYLIGHT
TZOFFSETFROM:-0400
TZOFFSETTO:-0300
TZNAME:ADT
DTSTART:20180311T060000
END:DAYLIGHT
BEGIN:STANDARD
TZOFFSETFROM:-0300
TZOFFSETTO:-0400
TZNAME:AST
DTSTART:20181104T050000
END:STANDARD
BEGIN:DAYLIGHT
TZOFFSETFROM:-0400
TZOFFSETTO:-0300
TZNAME:ADT
DTSTART:20190310T060000
END:DAYLIGHT
BEGIN:STANDARD
TZOFFSETFROM:-0300
TZOFFSETTO:-0400
TZNAME:AST
DTSTART:20191103T050000
END:STANDARD
BEGIN:DAYLIGHT
TZOFFSETFROM:-0400
TZOFFSETTO:-0300
TZNAME:ADT
DTSTART:20200308T060000
END:DAYLIGHT
BEGIN:STANDARD
TZOFFSETFROM:-0300
TZOFFSETTO:-0400
TZNAME:AST
DTSTART:20201101T050000
END:STANDARD
END:VTIMEZONE
BEGIN:VEVENT
DTSTART;TZID=America/Halifax:20190308T160000
DTEND;TZID=America/Halifax:20190308T220000
DTSTAMP:20260422T082556
CREATED:20190222T131920Z
LAST-MODIFIED:20190222T131920Z
UID:3663-1552060800-1552082400@bretonbrewing.ca
SUMMARY:Music On Tap!
DESCRIPTION:Every Friday at Breton Brewing we host local musician’s in our Music on Tap! Series. This Friday is also International Women’s Day\, and we will be featuring our Chai Brown Ale\, made by the ladies of Breton Brewing! \nAs always\, this is a NO COVER event! \nFor this Music on Tap! we have special guests: \n4pm – 7pm: Colin Burke\n7pm – 10pm: Michael Cavanaugh \n19+\nSee you here!\n-Breton Brewing Team
URL:https://bretonbrewing.ca/event/music-on-tap-16-3/
LOCATION:Breton Brewing\, 364 Keltic Drive\, Sydney\, Cape Breton\, B1R 1V7\, Canada
CATEGORIES:Music
GEO:46.1193721;-60.232274
X-APPLE-STRUCTURED-LOCATION;VALUE=URI;X-ADDRESS=Breton Brewing 364 Keltic Drive Sydney Cape Breton B1R 1V7 Canada;X-APPLE-RADIUS=500;X-TITLE=364 Keltic Drive:geo:-60.232274,46.1193721
END:VEVENT
END:VCALENDAR