BEGIN:VCALENDAR
VERSION:2.0
PRODID:-//Breton Brewing Co. - ECPv6.15.17.1//NONSGML v1.0//EN
CALSCALE:GREGORIAN
METHOD:PUBLISH
X-WR-CALNAME:Breton Brewing Co.
X-ORIGINAL-URL:https://bretonbrewing.ca
X-WR-CALDESC:Events for Breton Brewing Co.
REFRESH-INTERVAL;VALUE=DURATION:PT1H
X-Robots-Tag:noindex
X-PUBLISHED-TTL:PT1H
BEGIN:VTIMEZONE
TZID:America/Halifax
BEGIN:DAYLIGHT
TZOFFSETFROM:-0400
TZOFFSETTO:-0300
TZNAME:ADT
DTSTART:20170312T060000
END:DAYLIGHT
BEGIN:STANDARD
TZOFFSETFROM:-0300
TZOFFSETTO:-0400
TZNAME:AST
DTSTART:20171105T050000
END:STANDARD
BEGIN:DAYLIGHT
TZOFFSETFROM:-0400
TZOFFSETTO:-0300
TZNAME:ADT
DTSTART:20180311T060000
END:DAYLIGHT
BEGIN:STANDARD
TZOFFSETFROM:-0300
TZOFFSETTO:-0400
TZNAME:AST
DTSTART:20181104T050000
END:STANDARD
BEGIN:DAYLIGHT
TZOFFSETFROM:-0400
TZOFFSETTO:-0300
TZNAME:ADT
DTSTART:20190310T060000
END:DAYLIGHT
BEGIN:STANDARD
TZOFFSETFROM:-0300
TZOFFSETTO:-0400
TZNAME:AST
DTSTART:20191103T050000
END:STANDARD
END:VTIMEZONE
BEGIN:VEVENT
DTSTART;TZID=America/Halifax:20181117T200000
DTEND;TZID=America/Halifax:20181117T220000
DTSTAMP:20260420T052107
CREATED:20181113T123131Z
LAST-MODIFIED:20181113T123131Z
UID:3595-1542484800-1542492000@bretonbrewing.ca
SUMMARY:John Gill at Breton Brewing
DESCRIPTION:Local Musician John Gill will be playing some tunes Saturday\, November 17th from 8pm-10pm. Stop in for a night of great people\, great drinks and great music!
URL:https://bretonbrewing.ca/event/john-gill-at-breton-brewing-3/
LOCATION:Breton Brewing\, 364 Keltic Drive\, Sydney\, Cape Breton\, B1R 1V7\, Canada
CATEGORIES:Music
GEO:46.1193721;-60.232274
X-APPLE-STRUCTURED-LOCATION;VALUE=URI;X-ADDRESS=Breton Brewing 364 Keltic Drive Sydney Cape Breton B1R 1V7 Canada;X-APPLE-RADIUS=500;X-TITLE=364 Keltic Drive:geo:-60.232274,46.1193721
END:VEVENT
END:VCALENDAR