BEGIN:VCALENDAR
VERSION:2.0
PRODID:-//Breton Brewing Co. - ECPv6.15.17.1//NONSGML v1.0//EN
CALSCALE:GREGORIAN
METHOD:PUBLISH
X-WR-CALNAME:Breton Brewing Co.
X-ORIGINAL-URL:https://bretonbrewing.ca
X-WR-CALDESC:Events for Breton Brewing Co.
REFRESH-INTERVAL;VALUE=DURATION:PT1H
X-Robots-Tag:noindex
X-PUBLISHED-TTL:PT1H
BEGIN:VTIMEZONE
TZID:America/Halifax
BEGIN:DAYLIGHT
TZOFFSETFROM:-0400
TZOFFSETTO:-0300
TZNAME:ADT
DTSTART:20180311T060000
END:DAYLIGHT
BEGIN:STANDARD
TZOFFSETFROM:-0300
TZOFFSETTO:-0400
TZNAME:AST
DTSTART:20181104T050000
END:STANDARD
BEGIN:DAYLIGHT
TZOFFSETFROM:-0400
TZOFFSETTO:-0300
TZNAME:ADT
DTSTART:20190310T060000
END:DAYLIGHT
BEGIN:STANDARD
TZOFFSETFROM:-0300
TZOFFSETTO:-0400
TZNAME:AST
DTSTART:20191103T050000
END:STANDARD
BEGIN:DAYLIGHT
TZOFFSETFROM:-0400
TZOFFSETTO:-0300
TZNAME:ADT
DTSTART:20200308T060000
END:DAYLIGHT
BEGIN:STANDARD
TZOFFSETFROM:-0300
TZOFFSETTO:-0400
TZNAME:AST
DTSTART:20201101T050000
END:STANDARD
END:VTIMEZONE
BEGIN:VEVENT
DTSTART;TZID=America/Halifax:20190601T200000
DTEND;TZID=America/Halifax:20190601T220000
DTSTAMP:20260420T052750
CREATED:20190425T114542Z
LAST-MODIFIED:20190425T114542Z
UID:1348-1559419200-1559426400@bretonbrewing.ca
SUMMARY:Greg MacPherson at Breton Brewing Co.
DESCRIPTION:Two years since releasing Figure Walking’s debut record and reinforcing his status as one of Canada’s preeminent voices\, Greg Macpherson continues to write music on his own terms. With a new Figure Walking record coming this summer\, this is your opportunity to see and hear the songs and stories that he has expertly crafted over his 25 year career. \nwith special guest Julia Fiander\nmusic starts at 8pm\n$10 tickets available starting April 23 at Breton Brewing Co.
URL:https://bretonbrewing.ca/event/greg-macpherson-at-breton-brewing-co/
LOCATION:Breton Brewing\, 364 Keltic Drive\, Sydney\, Cape Breton\, B1R 1V7\, Canada
CATEGORIES:Music
GEO:46.1193721;-60.232274
X-APPLE-STRUCTURED-LOCATION;VALUE=URI;X-ADDRESS=Breton Brewing 364 Keltic Drive Sydney Cape Breton B1R 1V7 Canada;X-APPLE-RADIUS=500;X-TITLE=364 Keltic Drive:geo:-60.232274,46.1193721
END:VEVENT
END:VCALENDAR