BEGIN:VCALENDAR
VERSION:2.0
PRODID:-//Breton Brewing Co. - ECPv6.15.17.1//NONSGML v1.0//EN
CALSCALE:GREGORIAN
METHOD:PUBLISH
X-WR-CALNAME:Breton Brewing Co.
X-ORIGINAL-URL:https://bretonbrewing.ca
X-WR-CALDESC:Events for Breton Brewing Co.
REFRESH-INTERVAL;VALUE=DURATION:PT1H
X-Robots-Tag:noindex
X-PUBLISHED-TTL:PT1H
BEGIN:VTIMEZONE
TZID:America/Halifax
BEGIN:DAYLIGHT
TZOFFSETFROM:-0400
TZOFFSETTO:-0300
TZNAME:ADT
DTSTART:20200308T060000
END:DAYLIGHT
BEGIN:STANDARD
TZOFFSETFROM:-0300
TZOFFSETTO:-0400
TZNAME:AST
DTSTART:20201101T050000
END:STANDARD
BEGIN:DAYLIGHT
TZOFFSETFROM:-0400
TZOFFSETTO:-0300
TZNAME:ADT
DTSTART:20210314T060000
END:DAYLIGHT
BEGIN:STANDARD
TZOFFSETFROM:-0300
TZOFFSETTO:-0400
TZNAME:AST
DTSTART:20211107T050000
END:STANDARD
BEGIN:DAYLIGHT
TZOFFSETFROM:-0400
TZOFFSETTO:-0300
TZNAME:ADT
DTSTART:20220313T060000
END:DAYLIGHT
BEGIN:STANDARD
TZOFFSETFROM:-0300
TZOFFSETTO:-0400
TZNAME:AST
DTSTART:20221106T050000
END:STANDARD
END:VTIMEZONE
BEGIN:VEVENT
DTSTART;TZID=America/Halifax:20211130T190000
DTEND;TZID=America/Halifax:20211130T210000
DTSTAMP:20260420T075737
CREATED:20211112T182724Z
LAST-MODIFIED:20211112T182724Z
UID:3974-1638298800-1638306000@bretonbrewing.ca
SUMMARY:Gingerbread House Workshop!
DESCRIPTION:Join us at Breton Brewing for an evening of Gingerbread House Decorating!\nEverything you need to decorate will be provided by our buds at Not Just Cakes! So it is sure to be delicious and beautiful!\nTicket price also includes a beer\, wine or cider! \nHouses will be pre-assembled\, so you will have lots of time to decorate\, chat\, and have a merry time! Supplies for both classic and log house style will be available! \nWe will also have all of our holiday merchandise in stock\, so you can get some shopping done early! \nCost is $45 per person\nTickets are available in the taproom or by calling 902-270-4677 ext 1.\nThis is a 19+ event.\nMust have valid ID and proof of double vaccination.
URL:https://bretonbrewing.ca/event/gingerbread-house-workshop-3/
LOCATION:Breton Brewing\, 364 Keltic Drive\, Sydney\, Cape Breton\, B1R 1V7\, Canada
CATEGORIES:Workshop
ATTACH;FMTTYPE=image/jpeg:https://bretonbrewing.ca/wp-content/uploads/2021/11/FXT33965-2.jpg
GEO:46.1193721;-60.232274
X-APPLE-STRUCTURED-LOCATION;VALUE=URI;X-ADDRESS=Breton Brewing 364 Keltic Drive Sydney Cape Breton B1R 1V7 Canada;X-APPLE-RADIUS=500;X-TITLE=364 Keltic Drive:geo:-60.232274,46.1193721
END:VEVENT
END:VCALENDAR