BEGIN:VCALENDAR
VERSION:2.0
PRODID:-//Breton Brewing Co. - ECPv6.15.17.1//NONSGML v1.0//EN
CALSCALE:GREGORIAN
METHOD:PUBLISH
X-WR-CALNAME:Breton Brewing Co.
X-ORIGINAL-URL:https://bretonbrewing.ca
X-WR-CALDESC:Events for Breton Brewing Co.
REFRESH-INTERVAL;VALUE=DURATION:PT1H
X-Robots-Tag:noindex
X-PUBLISHED-TTL:PT1H
BEGIN:VTIMEZONE
TZID:America/Halifax
BEGIN:DAYLIGHT
TZOFFSETFROM:-0400
TZOFFSETTO:-0300
TZNAME:ADT
DTSTART:20240310T060000
END:DAYLIGHT
BEGIN:STANDARD
TZOFFSETFROM:-0300
TZOFFSETTO:-0400
TZNAME:AST
DTSTART:20241103T050000
END:STANDARD
BEGIN:DAYLIGHT
TZOFFSETFROM:-0400
TZOFFSETTO:-0300
TZNAME:ADT
DTSTART:20250309T060000
END:DAYLIGHT
BEGIN:STANDARD
TZOFFSETFROM:-0300
TZOFFSETTO:-0400
TZNAME:AST
DTSTART:20251102T050000
END:STANDARD
BEGIN:DAYLIGHT
TZOFFSETFROM:-0400
TZOFFSETTO:-0300
TZNAME:ADT
DTSTART:20260308T060000
END:DAYLIGHT
BEGIN:STANDARD
TZOFFSETFROM:-0300
TZOFFSETTO:-0400
TZNAME:AST
DTSTART:20261101T050000
END:STANDARD
END:VTIMEZONE
BEGIN:VEVENT
DTSTART;TZID=America/Halifax:20251209T190000
DTEND;TZID=America/Halifax:20251209T220000
DTSTAMP:20260419T143144
CREATED:20251209T174158Z
LAST-MODIFIED:20251210T160155Z
UID:6549-1765306800-1765317600@bretonbrewing.ca
SUMMARY:Beer Run Christmas Party
DESCRIPTION:Put on an ugly sweater and get a sweat on! Join us for the Beer Run Christmas party. \nDecember 19th: 7:00pm to 10:00pm \nUgly sweater beer run at 6:00pm\, followed by Karaoke at 7:00pm. \nTickets for $10 (includes first drink)
URL:https://bretonbrewing.ca/event/beer-run-christmas-party/
LOCATION:Breton Brewing\, 364 Keltic Drive\, Sydney\, Cape Breton\, B1R 1V7\, Canada
CATEGORIES:Karaoke
GEO:46.1193721;-60.232274
X-APPLE-STRUCTURED-LOCATION;VALUE=URI;X-ADDRESS=Breton Brewing 364 Keltic Drive Sydney Cape Breton B1R 1V7 Canada;X-APPLE-RADIUS=500;X-TITLE=364 Keltic Drive:geo:-60.232274,46.1193721
END:VEVENT
END:VCALENDAR